Workbook

Sheet Empieza aquí
B4: Plan de viabilidad para abrir un gimnasio
B5: El Excel que te conviene hacer antes de firmar el alquiler o pedir el préstamo: cuánto dinero necesitas, cuántos socios, cuándo llegas al equilibrio, cuánto baja la caja y qué pasa si va peor de lo previsto.
B8: Lo que te responde
C9: Pregunta | D9: Dónde lo ves
B10: 1 | C10: ¿Cuánto dinero necesito de verdad? | D10: Resumen
B11: 2 | C11: ¿Cuántos socios necesito para cubrir gastos? | D11: Punto de equilibrio
B12: 3 | C12: ¿En qué mes dejo de perder dinero? | D12: Resumen
B13: 4 | C13: ¿Cuánto baja la caja en el peor mes? | D13: Previsión 36 meses
B14: 5 | C14: ¿Y si va peor de lo que pienso? | D14: Escenario pesimista y tabla de sensibilidad
B16: Cómo usarlo
B17: 1 | C17: Rellena tu local y tu inversión
C18: En «Supuestos», bloques 1 a 3: metros, alquiler, obra, equipamiento, licencias y el colchón que quieres tener siempre.
B19: 2 | C19: Pon tus precios y cuántos socios esperas
C20: Bloques 4 y 5: tus planes con su cuota sin IVA, la preventa, las altas de cada mes del primer año y la tasa de bajas.
B21: 3 | C21: Escribe tus gastos y tu financiación
C22: Bloques 6 a 9: personal, alquiler y demás gastos fijos, comisiones, préstamo (con su carencia) y subidas anuales.
B23: 4 | C23: Mira el Resumen
C24: Los 8 números clave, tres gráficos y una frase que te dice si el plan se sostiene. Es la hoja que imprimes para el banco o tu socio.
B25: 5 | C25: Prueba el escenario pesimista
C26: Cambia el desplegable «Escenario» en «Supuestos». Si con menos altas, más bajas y una cuota más baja la caja aguanta, tu plan es sólido.
B28: Cómo leer los colores
C29: Verde agua: las rellenas tú (solo en «Supuestos»). | D29: Pestaña verde agua: donde rellenas
C30: Blancas: se calculan solas; mejor no tocarlas. | D30: Violeta: el resumen para imprimir
C31: Coral: números en negativo o meses a vigilar. | D31: Azul: el cálculo, mes a mes y por años
D32: Oscura: esta guía
B34: Los datos de ejemplo
B35: Viene relleno con un «Centro de ejemplo»: un gimnasio de 400 m² en una ciudad mediana, con valores orientativos para que veas el modelo funcionando. No son datos de mercado: cámbialos por los tuyos.
B36: Para usar tus cifras, escribe encima de las celdas verde agua: no hace falta borrar nada. Si prefieres empezar de cero, selecciona las celdas verde agua de «Supuestos» y pulsa Suprimir: el modelo no se rompe, solo verás ceros hasta que lo rellenes.
B38: Ten en cuenta
B39: • | C39: Todo va sin IVA: el IVA que cobras no es ingreso tuyo.
B40: • | C40: Los resultados son antes de impuestos: pide a tu asesoría el tipo que te toca.
B41: • | C41: Es una previsión orientativa: no sustituye el análisis de tu asesoría ni el de tu banco.
B42: • | C42: Funciona en Excel, Google Sheets (Archivo › Importar), LibreOffice y Numbers.
C44: Más plantillas y calculadoras gratis en gymgym.es/recursos

Sheet Supuestos
B1: Supuestos
B2: Todo lo que rellenas está aquí, en las celdas verde agua. Importes sin IVA. Los valores de ejemplo son orientativos: cámbialos por los tuyos.
B4: Leyenda | C4: Rellenas tú | D4: Se calcula solo
B6: 1 Proyecto y escenario
B7: Nombre del proyecto | C7: Centro de ejemplo | E7: Aparece en el «Resumen» que imprimes.
B8: Mes de apertura | C8: 46631 | D8: ="Año 1: "&CHOOSE(MONTH(DATE(YEAR(Supuestos!$C$8),MONTH(Supuestos!$C$8)+(1)-1,1)),"ene","feb","mar","abr","may","jun","jul","ago","sep","oct","nov","dic")&" "&YEAR(DATE(YEAR(Supuestos!$C$8),MONTH(Supuestos!$C$8)+(1)-1,1))&" – "&CHOOSE(MONTH(DATE(YEAR(Supuestos!$C$8),MONTH(Supuestos!$C$8)+(12)-1,1)),"ene","feb","mar","abr","may","jun","jul","ago","sep","oct","nov","dic")&" "&YEAR(DATE(YEAR(Supuestos!$C$8),MONTH(Supuestos!$C$8)+(12)-1,1))&" · año 3 termina en "&CHOOSE(MONTH(DATE(YEAR(Supuestos!$C$8),MONTH(Supuestos!$C$8)+(36)-1,1)),"ene","feb","mar","abr","may","jun","jul","ago","sep","oct","nov","dic")&" "&YEAR(DATE(YEAR(Supuestos!$C$8),MONTH(Supuestos!$C$8)+(36)-1,1)) -> Año 1: sep 2027 – ago 2028 · año 3 termina en ago 2030
B9: Escenario | C9: Realista | D9: Desplegable: Pesimista, Realista u Optimista.
B11: Multiplicador de cada escenario | C11: Pesimista | D11: Realista | E11: Optimista | F11: En uso
B12: Altas (captación) | C12: 0.85 | D12: 1 | E12: 1.15 | F12: =IFERROR(INDEX(C12:E12,MATCH($C$9,$C$11:$E$11,0)),1) -> 1
B13: Bajas (tasa de bajas) | C13: 1.15 | D13: 1 | E13: 0.9 | F13: =IFERROR(INDEX(C13:E13,MATCH($C$9,$C$11:$E$11,0)),1) -> 1
B14: Cuota media | C14: 0.95 | D14: 1 | E14: 1.03 | F14: =IFERROR(INDEX(C14:E14,MATCH($C$9,$C$11:$E$11,0)),1) -> 1
B15: En uso = la columna del escenario elegido. Si dejas el escenario vacío, se usa 100 %.
B17: 2 Local
B18: Superficie útil | C18: 400
B19: Alquiler al mes (sin IVA) | C19: 3600 | D19: =IFERROR("Son "&FIXED(C19/C18,2)&" € por m² al mes.","") -> Son 9,00 € por m² al mes.
B20: Fianza y garantías | C20: 2 | D20: Meses de alquiler que dejas como fianza o garantía. La recuperas al dejar el local.
B21: Obra y acondicionamiento por m² | C21: 140 | D21: Orientativo: depende mucho de cómo esté el local. Pide 2–3 presupuestos.
B23: 3 Inversión inicial (antes de abrir)
B24: Partida | C24: Importe | D24: Qué incluye
B25: Fianza del local | C25: =C19*C20 -> 7200 | D25: Alquiler × meses de fianza.
B26: Obra y acondicionamiento | C26: =C18*C21 -> 56000 | D26: m² × € por m² del bloque 2.
B27: Equipamiento | C27: 75000 | D27: Cardio, fuerza, peso libre y material de clases.
B28: Proyecto, licencia de actividad y tasas | C28: 9000 | D28: Proyecto técnico, licencia de actividad, tasas municipales.
B29: Mobiliario y vestuarios | C29: 12000 | D29: Taquillas, bancos, duchas, recepción.
B30: Tecnología | C30: 6000 | D30: Control de accesos, ordenador, sonido, cámaras.
B31: Marketing de lanzamiento y preventa | C31: 6000 | D31: Campaña de apertura, cartelería, puertas abiertas.
B32: Otros e imprevistos | C32: 5000 | D32: Un margen del 5–10 % es prudente.
B33: Inversión inicial total | C33: =SUM(C25:C32) -> 176200
B34: Colchón de seguridad | C34: 15000 | D34: No se gasta: lo mínimo que quieres tener siempre en la cuenta.
B35: Años para amortizar la inversión | C35: 10 | D35: Para la cuenta de resultados. Pregúntalo a tu asesoría.
B37: 4 Precios y planes (sin IVA)
B38: IVA de las cuotas | C38: 0.21 | D38: Solo para mostrarte el precio al socio. El modelo va sin IVA.
B40: Plan | C40: Cuota al mes sin IVA | D40: El socio paga (con IVA) | E40: % de socios
B41: Libre acceso | C41: 37.19 | D41: =C41*(1+$C$38) -> 44.9999 | E41: 0.45
B42: Mañanas (hasta las 15:00) | C42: 29.75 | D42: =C42*(1+$C$38) -> 35.9975 | E42: 0.2
B43: Anual (precio por mes) | C43: 33.06 | D43: =C43*(1+$C$38) -> 40.0026 | E43: 0.2
B44: Premium (libre + clases en grupo reducido) | C44: 49.59 | D44: =C44*(1+$C$38) -> 60.0039 | E44: 0.15
B45: Cuota media ponderada | C45: =IFERROR(SUMPRODUCT(C41:C44,E41:E44)/SUM(E41:E44),0) -> 36.736 | D45: =C45*(1+$C$38) -> 44.45056 | E45: =SUM(E41:E44) -> 1 | F45: =IF(ABS(E45-1)<0.0005,"Suma 100 %","Revisa: no suma 100 %") -> Suma 100 %
B47: Matrícula por alta (sin IVA) | C47: 20 | D47: Si a veces la regalas, pon la media.
B48: Entrenamiento personal: ingreso medio por socio y mes | C48: 4 | D48: Ejemplo: 1 de cada 20 socios paga 80 € al mes = 4 € por socio.
...

Sheet Resumen
B1: =IF(Supuestos!$C$7="","Plan de viabilidad","Plan de viabilidad · "&Supuestos!$C$7) -> Plan de viabilidad · Centro de ejemplo
B2: ="Escenario "&LOWER(Supuestos!$C$9)&" · apertura en "&CHOOSE(MONTH(DATE(YEAR(Supuestos!$C$8),MONTH(Supuestos!$C$8)+(1)-1,1)),"enero","febrero","marzo","abril","mayo","junio","julio","agosto","septiembre","octubre","noviembre","diciembre")&" de "&YEAR(DATE(YEAR(Supuestos!$C$8),MONTH(Supuestos!$C$8)+(1)-1,1))&" · importes sin IVA, antes de impuestos" -> Escenario realista · apertura en septiembre de 2027 · importes sin IVA, antes de impuestos
B5: INVERSIÓN INICIAL | F5: FINANCIACIÓN NECESARIA | J5: SOCIOS PARA CUBRIR GASTOS | N5: CUBRES GASTOS EN
B6: ='Punto de equilibrio'!$C$23 -> 176200 | F6: ='Punto de equilibrio'!$C$26 -> 233813.18 | J6: ='Punto de equilibrio'!$C$14 -> 445 | N6: =IF(ISNUMBER('Punto de equilibrio'!$C$20),"Mes "&'Punto de equilibrio'!$C$20,"> 36 meses") -> Mes 9
B7: ="Obra, equipamiento, licencias y apertura" -> Obra, equipamiento, licencias y apertura | F7: ="Tienes "&FIXED('Punto de equilibrio'!$C$27,0)&" €: "&IF('Punto de equilibrio'!$C$28>=0,"te sobran ","te faltan ")&FIXED(ABS('Punto de equilibrio'!$C$28),0)&" €" -> Tienes 230.000 €: te faltan 3.813 € | J7: ="Año 1 · "&FIXED('Punto de equilibrio'!$C$16,0)&" con la cuota del préstamo" -> Año 1 · 485 con la cuota del préstamo | N7: =IF(ISNUMBER('Punto de equilibrio'!$C$20),CHOOSE(MONTH(DATE(YEAR(Supuestos!$C$8),MONTH(Supuestos!$C$8)+('Punto de equilibrio'!$C$20)-1,1)),"enero","febrero","marzo","abril","mayo","junio","julio","agosto","septiembre","octubre","noviembre","diciembre")&" de "&YEAR(DATE(YEAR(Supuestos!$C$8),MONTH(Supuestos!$C$8)+('Punto de equilibrio'!$C$20)-1,1)),"No llega en la previsión") -> mayo de 2028
B9: RESULTADO AÑO 1 | F9: RESULTADO AÑO 2 | J9: RESULTADO AÑO 3 | N9: CAJA MÍNIMA
B10: ='Cuenta de resultados'!$C$36 -> -55331.298 | F10: ='Cuenta de resultados'!$E$36 -> 39811.889 | J10: ='Cuenta de resultados'!$G$36 -> 82352.678 | N10: ='Punto de equilibrio'!$C$21 -> 11186.822
B11: ="EBITDA "&FIXED('Cuenta de resultados'!$C$30,0)&" €" -> EBITDA -24.150 € | F11: ="EBITDA "&FIXED('Cuenta de resultados'!$E$30,0)&" €" -> EBITDA 63.992 € | J11: ="EBITDA "&FIXED('Cuenta de resultados'!$G$30,0)&" €" -> EBITDA 105.296 € | N11: =IF('Punto de equilibrio'!$C$22=0,"El día que abres","En el mes "&'Punto de equilibrio'!$C$22&" · "&CHOOSE(MONTH(DATE(YEAR(Supuestos!$C$8),MONTH(Supuestos!$C$8)+('Punto de equilibrio'!$C$22)-1,1)),"ene","feb","mar","abr","may","jun","jul","ago","sep","oct","nov","dic")&" "&YEAR(DATE(YEAR(Supuestos!$C$8),MONTH(Supuestos!$C$8)+('Punto de equilibrio'!$C$22)-1,1))) -> En el mes 12 · ago 2028
B13: =IF('Cuenta de resultados'!$C$13+'Cuenta de resultados'!$E$13+'Cuenta de resultados'!$G$13=0,"Rellena la hoja «Supuestos» (las celdas verde agua) y aquí verás si tu plan se sostiene.",IF(ISNUMBER('Punto de equilibrio'!$C$20),"Con estos supuestos cubres gastos en el mes "&'Punto de equilibrio'!$C$20&" ("&CHOOSE(MONTH(DATE(YEAR(Supuestos!$C$8),MONTH(Supuestos!$C$8)+('Punto de equilibrio'!$C$20)-1,1)),"enero","febrero","marzo","abril","mayo","junio","julio","agosto","septiembre","octubre","noviembre","diciembre")&" de "&YEAR(DATE(YEAR(Supuestos!$C$8),MONTH(Supuestos!$C$8)+('Punto de equilibrio'!$C$20)-1,1))&")","Con estos supuestos no llegas a cubrir gastos en los 36 meses")&" y la caja mínima es de "&FIXED('Punto de equilibrio'!$C$21,0)&" €"&IF('Punto de equilibrio'!$C$22=0," el día que abres."," en el mes "&'Punto de equilibrio'!$C$22&" ("&CHOOSE(MONTH(DATE(YEAR(Supuestos!$C$8),MONTH(Supuestos!$C$8)+('Punto de equilibrio'!$C$22)-1,1)),"enero","febrero","marzo","abril","mayo","junio","julio","agosto","septiembre","octubre","noviembre","diciembre")&" de "&YEAR(DATE(YEAR(Supuestos!$C$8),MONTH(Supuestos!$C$8)+('Punto de equilibrio'!$C$22)-1,1))&")"&IF(AND('Punto de equilibrio'!$C$22=36,'Previsión 36 meses'!$N$118<0),", y sigue bajando.","."))&IF('Punto de equilibrio'!$C$21<0," Te faltan "&FIXED(-'Punto de equilibrio'!$C$21,0)&" € para no quedarte en números rojos: necesitas más financiación o menos inversión.",IF('Punto de equilibrio'!$C$21<Supuestos!$C$34," Vas justo: es menos que tu colchón de "&FIXED(Supuestos!$C$34,0)&" €."," Tu financiación aguanta el peor mes con margen."))&IF(ISNUMBER('Punto de equilibrio'!$C$29)," Recuperas la inversión en unos "&'Punto de equilibrio'!$C$29&" meses."," Con este ritmo no recuperas la inversión en 10 años.")) -> Con estos supuestos cubres gastos en el mes 9 (mayo de 2028) y la caja mínima es de 11.187 € en el mes 12 (agosto de 2028). Vas justo: es menos que tu colchón de 15.000 €. Recuperas la inversión en unos 41 meses.
B17: Socios a 36 meses | G17: Socios a fin de mes frente a los que necesitas para cubrir gastos
B32: Ingresos y gastos al mes | J32: Caja acumulada
B47: Los tres años de un vistazo
B48: Sin IVA | H48: Año 1 | K48: Año 2 | N48: Año 3
B49: Socios a final de año | H49: ='Previsión 36 meses'!$O$14 -> 430 | K49: ='Previsión 36 meses'!$O$52 -> 574 | N49: ='Previsión 36 meses'!$O$90 -> 626
B50: Ingresos | H50: ='Cuenta de resultados'!$C$13 -> 198336.41 | K50: ='Cuenta de resultados'!$E$13 -> 300844.08 | N50: ='Cuenta de resultados'!$G$13 -> 352615.91
B51: Gastos (fijos + variables) | H51: ='Cuenta de resultados'!$C$25+'Cuenta de resultados'!$C$29 -> 222486.79 | K51: ='Cuenta de resultados'!$E$25+'Cuenta de resultados'!$E$29 -> 236852.4 | N51: ='Cuenta de resultados'!$G$25+'Cuenta de resultados'!$G$29 -> 247319.83
B52: Resultado operativo (EBITDA) | H52: ='Cuenta de resultados'!$C$30 -> -24150.375 | K52: ='Cuenta de resultados'!$E$30 -> 63991.672 | N52: ='Cuenta de resultados'!$G$30 -> 105296.08
B53: Resultado antes de impuestos | H53: ='Cuenta de resultados'!$C$36 -> -55331.298 | K53: ='Cuenta de resultados'!$E$36 -> 39811.889 | N53: ='Cuenta de resultados'!$G$36 -> 82352.678
B54: Caja a final de año | H54: ='Previsión 36 meses'!$O$43 -> 11186.822 | K54: ='Previsión 36 meses'!$O$81 -> 47252.89 | N54: ='Previsión 36 meses'!$O$119 -> 124623.36
B56: ="Cifras orientativas calculadas con la hoja «Supuestos» ("&Supuestos!$C$7&"). Sin IVA y antes de impuestos. El detalle mes a mes está en «Previsión 36 meses» y los años, en «Cuenta de resultados»." -> Cifras orientativas calculadas con la hoja «Supuestos» (Centro de ejemplo). Sin IVA y antes de impuestos. El detalle mes a mes está en «Previsión 36 meses» y los años, en «Cuenta de resultados».

Sheet Previsión 36 meses
B1: Previsión a 36 meses
B2: Mes a mes y sin IVA. Todo se calcula con los «Supuestos»: aquí no hay nada que rellenar.
R3: Aux.: mes equilibrio | S3: Aux.: mes caja mín.
B4: ="Escenario "&LOWER(Supuestos!$C$9)&". En la cabecera, en verde agua: primer mes en que cubres gastos"&IF(ISNUMBER('Punto de equilibrio'!$C$20)," (mes "&'Punto de equilibrio'!$C$20&")"," (no llega en 36 meses)")&". En coral: mes de caja mínima (mes "&'Punto de equilibrio'!$C$22&", "&FIXED('Punto de equilibrio'!$C$21,0)&" €)." -> Escenario realista. En la cabecera, en verde agua: primer mes en que cubres gastos (mes 9). En coral: mes de caja mínima (mes 12, 11.187 €). | R4: ='Punto de equilibrio'!$C$20 -> 9 | S4: ='Punto de equilibrio'!$C$22 -> 12
B7: ="Año 1 · "&CHOOSE(MONTH(DATE(YEAR(Supuestos!$C$8),MONTH(Supuestos!$C$8)+(1)-1,1)),"ene","feb","mar","abr","may","jun","jul","ago","sep","oct","nov","dic")&" "&YEAR(DATE(YEAR(Supuestos!$C$8),MONTH(Supuestos!$C$8)+(1)-1,1))&" – "&CHOOSE(MONTH(DATE(YEAR(Supuestos!$C$8),MONTH(Supuestos!$C$8)+(12)-1,1)),"ene","feb","mar","abr","may","jun","jul","ago","sep","oct","nov","dic")&" "&YEAR(DATE(YEAR(Supuestos!$C$8),MONTH(Supuestos!$C$8)+(12)-1,1)) -> Año 1 · sep 2027 – ago 2028
B8: Concepto | C8: =CHOOSE(MONTH(DATE(YEAR(Supuestos!$C$8),MONTH(Supuestos!$C$8)+(1)-1,1)),"ene","feb","mar","abr","may","jun","jul","ago","sep","oct","nov","dic")&" "&RIGHT(YEAR(DATE(YEAR(Supuestos!$C$8),MONTH(Supuestos!$C$8)+(1)-1,1)),2) -> sep 27 | D8: =CHOOSE(MONTH(DATE(YEAR(Supuestos!$C$8),MONTH(Supuestos!$C$8)+(2)-1,1)),"ene","feb","mar","abr","may","jun","jul","ago","sep","oct","nov","dic")&" "&RIGHT(YEAR(DATE(YEAR(Supuestos!$C$8),MONTH(Supuestos!$C$8)+(2)-1,1)),2) -> oct 27 | E8: =CHOOSE(MONTH(DATE(YEAR(Supuestos!$C$8),MONTH(Supuestos!$C$8)+(3)-1,1)),"ene","feb","mar","abr","may","jun","jul","ago","sep","oct","nov","dic")&" "&RIGHT(YEAR(DATE(YEAR(Supuestos!$C$8),MONTH(Supuestos!$C$8)+(3)-1,1)),2) -> nov 27 | F8: =CHOOSE(MONTH(DATE(YEAR(Supuestos!$C$8),MONTH(Supuestos!$C$8)+(4)-1,1)),"ene","feb","mar","abr","may","jun","jul","ago","sep","oct","nov","dic")&" "&RIGHT(YEAR(DATE(YEAR(Supuestos!$C$8),MONTH(Supuestos!$C$8)+(4)-1,1)),2) -> dic 27 | G8: =CHOOSE(MONTH(DATE(YEAR(Supuestos!$C$8),MONTH(Supuestos!$C$8)+(5)-1,1)),"ene","feb","mar","abr","may","jun","jul","ago","sep","oct","nov","dic")&" "&RIGHT(YEAR(DATE(YEAR(Supuestos!$C$8),MONTH(Supuestos!$C$8)+(5)-1,1)),2) -> ene 28 | H8: =CHOOSE(MONTH(DATE(YEAR(Supuestos!$C$8),MONTH(Supuestos!$C$8)+(6)-1,1)),"ene","feb","mar","abr","may","jun","jul","ago","sep","oct","nov","dic")&" "&RIGHT(YEAR(DATE(YEAR(Supuestos!$C$8),MONTH(Supuestos!$C$8)+(6)-1,1)),2) -> feb 28 | I8: =CHOOSE(MONTH(DATE(YEAR(Supuestos!$C$8),MONTH(Supuestos!$C$8)+(7)-1,1)),"ene","feb","mar","abr","may","jun","jul","ago","sep","oct","nov","dic")&" "&RIGHT(YEAR(DATE(YEAR(Supuestos!$C$8),MONTH(Supuestos!$C$8)+(7)-1,1)),2) -> mar 28 | J8: =CHOOSE(MONTH(DATE(YEAR(Supuestos!$C$8),MONTH(Supuestos!$C$8)+(8)-1,1)),"ene","feb","mar","abr","may","jun","jul","ago","sep","oct","nov","dic")&" "&RIGHT(YEAR(DATE(YEAR(Supuestos!$C$8),MONTH(Supuestos!$C$8)+(8)-1,1)),2) -> abr 28 | K8: =CHOOSE(MONTH(DATE(YEAR(Supuestos!$C$8),MONTH(Supuestos!$C$8)+(9)-1,1)),"ene","feb","mar","abr","may","jun","jul","ago","sep","oct","nov","dic")&" "&RIGHT(YEAR(DATE(YEAR(Supuestos!$C$8),MONTH(Supuestos!$C$8)+(9)-1,1)),2) -> may 28 | L8: =CHOOSE(MONTH(DATE(YEAR(Supuestos!$C$8),MONTH(Supuestos!$C$8)+(10)-1,1)),"ene","feb","mar","abr","may","jun","jul","ago","sep","oct","nov","dic")&" "&RIGHT(YEAR(DATE(YEAR(Supuestos!$C$8),MONTH(Supuestos!$C$8)+(10)-1,1)),2) -> jun 28 | M8: =CHOOSE(MONTH(DATE(YEAR(Supuestos!$C$8),MONTH(Supuestos!$C$8)+(11)-1,1)),"ene","feb","mar","abr","may","jun","jul","ago","sep","oct","nov","dic")&" "&RIGHT(YEAR(DATE(YEAR(Supuestos!$C$8),MONTH(Supuestos!$C$8)+(11)-1,1)),2) -> jul 28 | N8: =CHOOSE(MONTH(DATE(YEAR(Supuestos!$C$8),MONTH(Supuestos!$C$8)+(12)-1,1)),"ene","feb","mar","abr","may","jun","jul","ago","sep","oct","nov","dic")&" "&RIGHT(YEAR(DATE(YEAR(Supuestos!$C$8),MONTH(Supuestos!$C$8)+(12)-1,1)),2) -> ago 28 | O8: Total año 1
B9: Mes nº | C9: 1 | D9: 2 | E9: 3 | F9: 4 | G9: 5 | H9: 6 | I9: 7 | J9: 8 | K9: 9 | L9: 10 | M9: 11 | N9: 12
B10: SOCIOS
B11: Socios al inicio del mes | C11: =0 -> 0 | D11: =C14 -> 225 | E11: =D14 -> 271 | F11: =E14 -> 300 | G11: =F14 -> 313 | H11: =G14 -> 360 | I11: =H14 -> 386 | J11: =I14 -> 406 | K11: =J14 -> 420 | ... N11: =M14 -> 435 | O11: =C11 -> 0
B12: + Altas | C12: =MAX(0,MIN(ROUND(Supuestos!$F$12*IF(C$9<=12,INDEX(Supuestos!$C$55:$C$66,C$9)+IF(C$9=1,Supuestos!$C$52,0),IF(C$9<=24,Supuestos!$C$69,Supuestos!$C$70)*IFERROR(INDEX(Supuestos!$C$55:$C$66,MOD(C$9-1,12)+1)/AVERAGE(Supuestos!$C$55:$C$66),1)),0),IF(Supuestos!$C$72>0,Supuestos!$C$72-C11+C13,ROUND(Supuestos!$F$12*IF(C$9<=12,INDEX(Supuestos!$C$55:$C$66,C$9)+IF(C$9=1,Supuestos!$C$52,0),IF(C$9<=24,Supuestos!$C$69,Supuestos!$C$70)*IFERROR(INDEX(Supuestos!$C$55:$C$66,MOD(C$9-1,12)+1)/AVERAGE(Supuestos!$C$55:$C$66),1)),0)))) -> 225 | D12: =MAX(0,MIN(ROUND(Supuestos!$F$12*IF(D$9<=12,INDEX(Supuestos!$C$55:$C$66,D$9)+IF(D$9=1,Supuestos!$C$52,0),IF(D$9<=24,Supuestos!$C$69,Supuestos!$C$70)*IFERROR(INDEX(Supuestos!$C$55:$C$66,MOD(D$9-1,12)+1)/AVERAGE(Supuestos!$C$55:$C$66),1)),0),IF(Supuestos!$C$72>0,Supuestos!$C$72-D11+D13,ROUND(Supuestos!$F$12*IF(D$9<=12,INDEX(Supuestos!$C$55:$C$66,D$9)+IF(D$9=1,Supuestos!$C$52,0),IF(D$9<=24,Supuestos!$C$69,Supuestos!$C$70)*IFERROR(INDEX(Supuestos!$C$55:$C$66,MOD(D$9-1,12)+1)/AVERAGE(Supuestos!$C$55:$C$66),1)),0)))) -> 55 | E12: =MAX(0,MIN(ROUND(Supuestos!$F$12*IF(E$9<=12,INDEX(Supuestos!$C$55:$C$66,E$9)+IF(E$9=1,Supuestos!$C$52,0),IF(E$9<=24,Supuestos!$C$69,Supuestos!$C$70)*IFERROR(INDEX(Supuestos!$C$55:$C$66,MOD(E$9-1,12)+1)/AVERAGE(Supuestos!$C$55:$C$66),1)),0),IF(Supuestos!$C$72>0,Supuestos!$C$72-E11+E13,ROUND(Supuestos!$F$12*IF(E$9<=12,INDEX(Supuestos!$C$55:$C$66,E$9)+IF(E$9=1,Supuestos!$C$52,0),IF(E$9<=24,Supuestos!$C$69,Supuestos!$C$70)*IFERROR(INDEX(Supuestos!$C$55:$C$66,MOD(E$9-1,12)+1)/AVERAGE(Supuestos!$C$55:$C$66),1)),0)))) -> 40 | F12: =MAX(0,MIN(ROUND(Supuestos!$F$12*IF(F$9<=12,INDEX(Supuestos!$C$55:$C$66,F$9)+IF(F$9=1,Supuestos!$C$52,0),IF(F$9<=24,Supuestos!$C$69,Supuestos!$C$70)*IFERROR(INDEX(Supuestos!$C$55:$C$66,MOD(F$9-1,12)+1)/AVERAGE(Supuestos!$C$55:$C$66),1)),0),IF(Supuestos!$C$72>0,Supuestos!$C$72-F11+F13,ROUND(Supuestos!$F$12*IF(F$9<=12,INDEX(Supuestos!$C$55:$C$66,F$9)+IF(F$9=1,Supuestos!$C$52,0),IF(F$9<=24,Supuestos!$C$69,Supuestos!$C$70)*IFERROR(INDEX(Supuestos!$C$55:$C$66,MOD(F$9-1,12)+1)/AVERAGE(Supuestos!$C$55:$C$66),1)),0)))) -> 25 | G12: =MAX(0,MIN(ROUND(Supuestos!$F$12*IF(G$9<=12,INDEX(Supuestos!$C$55:$C$66,G$9)+IF(G$9=1,Supuestos!$C$52,0),IF(G$9<=24,Supuestos!$C$69,Supuestos!$C$70)*IFERROR(INDEX(Supuestos!$C$55:$C$66,MOD(G$9-1,12)+1)/AVERAGE(Supuestos!$C$55:$C$66),1)),0),IF(Supuestos!$C$72>0,Supuestos!$C$72-G11+G13,ROUND(Supuestos!$F$12*IF(G$9<=12,INDEX(Supuestos!$C$55:$C$66,G$9)+IF(G$9=1,Supuestos!$C$52,0),IF(G$9<=24,Supuestos!$C$69,Supuestos!$C$70)*IFERROR(INDEX(Supuestos!$C$55:$C$66,MOD(G$9-1,12)+1)/AVERAGE(Supuestos!$C$55:$C$66),1)),0)))) -> 60 | H12: =MAX(0,MIN(ROUND(Supuestos!$F$12*IF(H$9<=12,INDEX(Supuestos!$C$55:$C$66,H$9)+IF(H$9=1,Supuestos!$C$52,0),IF(H$9<=24,Supuestos!$C$69,Supuestos!$C$70)*IFERROR(INDEX(Supuestos!$C$55:$C$66,MOD(H$9-1,12)+1)/AVERAGE(Supuestos!$C$55:$C$66),1)),0),IF(Supuestos!$C$72>0,Supuestos!$C$72-H11+H13,ROUND(Supuestos!$F$12*IF(H$9<=12,INDEX(Supuestos!$C$55:$C$66,H$9)+IF(H$9=1,Supuestos!$C$52,0),IF(H$9<=24,Supuestos!$C$69,Supuestos!$C$70)*IFERROR(INDEX(Supuestos!$C$55:$C$66,MOD(H$9-1,12)+1)/AVERAGE(Supuestos!$C$55:$C$66),1)),0)))) -> 40 | I12: =MAX(0,MIN(ROUND(Supuestos!$F$12*IF(I$9<=12,INDEX(Supuestos!$C$55:$C$66,I$9)+IF(I$9=1,Supuestos!$C$52,0),IF(I$9<=24,Supuestos!$C$69,Supuestos!$C$70)*IFERROR(INDEX(Supuestos!$C$55:$C$66,MOD(I$9-1,12)+1)/AVERAGE(Supuestos!$C$55:$C$66),1)),0),IF(Supuestos!$C$72>0,Supuestos!$C$72-I11+I13,ROUND(Supuestos!$F$12*IF(I$9<=12,INDEX(Supuestos!$C$55:$C$66,I$9)+IF(I$9=1,Supuestos!$C$52,0),IF(I$9<=24,Supuestos!$C$69,Supuestos!$C$70)*IFERROR(INDEX(Supuestos!$C$55:$C$66,MOD(I$9-1,12)+1)/AVERAGE(Supuestos!$C$55:$C$66),1)),0)))) -> 35 | J12: =MAX(0,MIN(ROUND(Supuestos!$F$12*IF(J$9<=12,INDEX(Supuestos!$C$55:$C$66,J$9)+IF(J$9=1,Supuestos!$C$52,0),IF(J$9<=24,Supuestos!$C$69,Supuestos!$C$70)*IFERROR(INDEX(Supuestos!$C$55:$C$66,MOD(J$9-1,12)+1)/AVERAGE(Supuestos!$C$55:$C$66),1)),0),IF(Supuestos!$C$72>0,Supuestos!$C$72-J11+J13,ROUND(Supuestos!$F$12*IF(J$9<=12,INDEX(Supuestos!$C$55:$C$66,J$9)+IF(J$9=1,Supuestos!$C$52,0),IF(J$9<=24,Supuestos!$C$69,Supuestos!$C$70)*IFERROR(INDEX(Supuestos!$C$55:$C$66,MOD(J$9-1,12)+1)/AVERAGE(Supuestos!$C$55:$C$66),1)),0)))) -> 30 | ... N12: =MAX(0,MIN(ROUND(Supuestos!$F$12*IF(N$9<=12,INDEX(Supuestos!$C$55:$C$66,N$9)+IF(N$9=1,Supuestos!$C$52,0),IF(N$9<=24,Supuestos!$C$69,Supuestos!$C$70)*IFERROR(INDEX(Supuestos!$C$55:$C$66,MOD(N$9-1,12)+1)/AVERAGE(Supuestos!$C$55:$C$66),1)),0),IF(Supuestos!$C$72>0,Supuestos!$C$72-N11+N13,ROUND(Supuestos!$F$12*IF(N$9<=12,INDEX(Supuestos!$C$55:$C$66,N$9)+IF(N$9=1,Supuestos!$C$52,0),IF(N$9<=24,Supuestos!$C$69,Supuestos!$C$70)*IFERROR(INDEX(Supuestos!$C$55:$C$66,MOD(N$9-1,12)+1)/AVERAGE(Supuestos!$C$55:$C$66),1)),0)))) -> 12 | O12: =SUM(C12:N12) -> 589
B13: − Bajas | C13: =MIN(C11,ROUND(C11*Supuestos!$C$71*Supuestos!$F$13,0)) -> 0 | D13: =MIN(D11,ROUND(D11*Supuestos!$C$71*Supuestos!$F$13,0)) -> 9 | E13: =MIN(E11,ROUND(E11*Supuestos!$C$71*Supuestos!$F$13,0)) -> 11 | F13: =MIN(F11,ROUND(F11*Supuestos!$C$71*Supuestos!$F$13,0)) -> 12 | G13: =MIN(G11,ROUND(G11*Supuestos!$C$71*Supuestos!$F$13,0)) -> 13 | H13: =MIN(H11,ROUND(H11*Supuestos!$C$71*Supuestos!$F$13,0)) -> 14 | I13: =MIN(I11,ROUND(I11*Supuestos!$C$71*Supuestos!$F$13,0)) -> 15 | J13: =MIN(J11,ROUND(J11*Supuestos!$C$71*Supuestos!$F$13,0)) -> 16 | ... N13: =MIN(N11,ROUND(N11*Supuestos!$C$71*Supuestos!$F$13,0)) -> 17 | O13: =SUM(C13:N13) -> 159
B14: Socios a fin de mes | C14: =C11+C12-C13 -> 225 | D14: =D11+D12-D13 -> 271 | E14: =E11+E12-E13 -> 300 | F14: =F11+F12-F13 -> 313 | G14: =G11+G12-G13 -> 360 | H14: =H11+H12-H13 -> 386 | I14: =I11+I12-I13 -> 406 | J14: =J11+J12-J13 -> 420 | ... N14: =N11+N12-N13 -> 430 | O14: =N14 -> 430
B15: INGRESOS (SIN IVA)
B16: Cuotas | C16: =C14*Supuestos!$C$45*Supuestos!$F$14*(1+Supuestos!$C$112)^INT((C$9-1)/12) -> 8265.6 | D16: =D14*Supuestos!$C$45*Supuestos!$F$14*(1+Supuestos!$C$112)^INT((D$9-1)/12) -> 9955.456 | E16: =E14*Supuestos!$C$45*Supuestos!$F$14*(1+Supuestos!$C$112)^INT((E$9-1)/12) -> 11020.8 | F16: =F14*Supuestos!$C$45*Supuestos!$F$14*(1+Supuestos!$C$112)^INT((F$9-1)/12) -> 11498.368 | G16: =G14*Supuestos!$C$45*Supuestos!$F$14*(1+Supuestos!$C$112)^INT((G$9-1)/12) -> 13224.96 | H16: =H14*Supuestos!$C$45*Supuestos!$F$14*(1+Supuestos!$C$112)^INT((H$9-1)/12) -> 14180.096 | I16: =I14*Supuestos!$C$45*Supuestos!$F$14*(1+Supuestos!$C$112)^INT((I$9-1)/12) -> 14914.816 | J16: =J14*Supuestos!$C$45*Supuestos!$F$14*(1+Supuestos!$C$112)^INT((J$9-1)/12) -> 15429.12 | ... N16: =N14*Supuestos!$C$45*Supuestos!$F$14*(1+Supuestos!$C$112)^INT((N$9-1)/12) -> 15796.48 | O16: =SUM(C16:N16) -> 162262.91
B17: Matrículas | C17: =C12*Supuestos!$C$47*(1+Supuestos!$C$112)^INT((C$9-1)/12) -> 4500 | D17: =D12*Supuestos!$C$47*(1+Supuestos!$C$112)^INT((D$9-1)/12) -> 1100 | E17: =E12*Supuestos!$C$47*(1+Supuestos!$C$112)^INT((E$9-1)/12) -> 800 | F17: =F12*Supuestos!$C$47*(1+Supuestos!$C$112)^INT((F$9-1)/12) -> 500 | G17: =G12*Supuestos!$C$47*(1+Supuestos!$C$112)^INT((G$9-1)/12) -> 1200 | H17: =H12*Supuestos!$C$47*(1+Supuestos!$C$112)^INT((H$9-1)/12) -> 800 | I17: =I12*Supuestos!$C$47*(1+Supuestos!$C$112)^INT((I$9-1)/12) -> 700 | J17: =J12*Supuestos!$C$47*(1+Supuestos!$C$112)^INT((J$9-1)/12) -> 600 | ... N17: =N12*Supuestos!$C$47*(1+Supuestos!$C$112)^INT((N$9-1)/12) -> 240 | O17: =SUM(C17:N17) -> 11780
B18: Entrenamiento personal y tienda | C18: =C14*(Supuestos!$C$48+Supuestos!$C$49)*(1+Supuestos!$C$112)^INT((C$9-1)/12) -> 1237.5 | D18: =D14*(Supuestos!$C$48+Supuestos!$C$49)*(1+Supuestos!$C$112)^INT((D$9-1)/12) -> 1490.5 | E18: =E14*(Supuestos!$C$48+Supuestos!$C$49)*(1+Supuestos!$C$112)^INT((E$9-1)/12) -> 1650 | F18: =F14*(Supuestos!$C$48+Supuestos!$C$49)*(1+Supuestos!$C$112)^INT((F$9-1)/12) -> 1721.5 | G18: =G14*(Supuestos!$C$48+Supuestos!$C$49)*(1+Supuestos!$C$112)^INT((G$9-1)/12) -> 1980 | H18: =H14*(Supuestos!$C$48+Supuestos!$C$49)*(1+Supuestos!$C$112)^INT((H$9-1)/12) -> 2123 | I18: =I14*(Supuestos!$C$48+Supuestos!$C$49)*(1+Supuestos!$C$112)^INT((I$9-1)/12) -> 2233 | J18: =J14*(Supuestos!$C$48+Supuestos!$C$49)*(1+Supuestos!$C$112)^INT((J$9-1)/12) -> 2310 | ... N18: =N14*(Supuestos!$C$48+Supuestos!$C$49)*(1+Supuestos!$C$112)^INT((N$9-1)/12) -> 2365 | O18: =SUM(C18:N18) -> 24293.5
B19: Total ingresos | C19: =SUM(C16:C18) -> 14003.1 | D19: =SUM(D16:D18) -> 12545.956 | E19: =SUM(E16:E18) -> 13470.8 | F19: =SUM(F16:F18) -> 13719.868 | G19: =SUM(G16:G18) -> 16404.96 | H19: =SUM(H16:H18) -> 17103.096 | I19: =SUM(I16:I18) -> 17847.816 | J19: =SUM(J16:J18) -> 18339.12 | ... N19: =SUM(N16:N18) -> 18401.48 | O19: =SUM(C19:N19) -> 198336.41
B20: GASTOS FIJOS
B21: Personal | C21: =Supuestos!$G$83*(1+Supuestos!$C$113)^INT((C$9-1)/12) -> 8800 | D21: =Supuestos!$G$83*(1+Supuestos!$C$113)^INT((D$9-1)/12) -> 8800 | E21: =Supuestos!$G$83*(1+Supuestos!$C$113)^INT((E$9-1)/12) -> 8800 | F21: =Supuestos!$G$83*(1+Supuestos!$C$113)^INT((F$9-1)/12) -> 8800 | G21: =Supuestos!$G$83*(1+Supuestos!$C$113)^INT((G$9-1)/12) -> 8800 | H21: =Supuestos!$G$83*(1+Supuestos!$C$113)^INT((H$9-1)/12) -> 8800 | I21: =Supuestos!$G$83*(1+Supuestos!$C$113)^INT((I$9-1)/12) -> 8800 | J21: =Supuestos!$G$83*(1+Supuestos!$C$113)^INT((J$9-1)/12) -> 8800 | ... N21: =Supuestos!$G$83*(1+Supuestos!$C$113)^INT((N$9-1)/12) -> 8800 | O21: =SUM(C21:N21) -> 105600
B22: Alquiler | C22: =Supuestos!$C$86*(1+Supuestos!$C$113)^INT((C$9-1)/12) -> 3600 | D22: =Supuestos!$C$86*(1+Supuestos!$C$113)^INT((D$9-1)/12) -> 3600 | E22: =Supuestos!$C$86*(1+Supuestos!$C$113)^INT((E$9-1)/12) -> 3600 | F22: =Supuestos!$C$86*(1+Supuestos!$C$113)^INT((F$9-1)/12) -> 3600 | G22: =Supuestos!$C$86*(1+Supuestos!$C$113)^INT((G$9-1)/12) -> 3600 | H22: =Supuestos!$C$86*(1+Supuestos!$C$113)^INT((H$9-1)/12) -> 3600 | I22: =Supuestos!$C$86*(1+Supuestos!$C$113)^INT((I$9-1)/12) -> 3600 | J22: =Supuestos!$C$86*(1+Supuestos!$C$113)^INT((J$9-1)/12) -> 3600 | ... N22: =Supuestos!$C$86*(1+Supuestos!$C$113)^INT((N$9-1)/12) -> 3600 | O22: =SUM(C22:N22) -> 43200
B23: Suministros | C23: =Supuestos!$C$87*(1+Supuestos!$C$113)^INT((C$9-1)/12) -> 1500 | D23: =Supuestos!$C$87*(1+Supuestos!$C$113)^INT((D$9-1)/12) -> 1500 | E23: =Supuestos!$C$87*(1+Supuestos!$C$113)^INT((E$9-1)/12) -> 1500 | F23: =Supuestos!$C$87*(1+Supuestos!$C$113)^INT((F$9-1)/12) -> 1500 | G23: =Supuestos!$C$87*(1+Supuestos!$C$113)^INT((G$9-1)/12) -> 1500 | H23: =Supuestos!$C$87*(1+Supuestos!$C$113)^INT((H$9-1)/12) -> 1500 | I23: =Supuestos!$C$87*(1+Supuestos!$C$113)^INT((I$9-1)/12) -> 1500 | J23: =Supuestos!$C$87*(1+Supuestos!$C$113)^INT((J$9-1)/12) -> 1500 | ... N23: =Supuestos!$C$87*(1+Supuestos!$C$113)^INT((N$9-1)/12) -> 1500 | O23: =SUM(C23:N23) -> 18000
B24: Software | C24: =Supuestos!$C$88*(1+Supuestos!$C$113)^INT((C$9-1)/12) -> 150 | D24: =Supuestos!$C$88*(1+Supuestos!$C$113)^INT((D$9-1)/12) -> 150 | E24: =Supuestos!$C$88*(1+Supuestos!$C$113)^INT((E$9-1)/12) -> 150 | F24: =Supuestos!$C$88*(1+Supuestos!$C$113)^INT((F$9-1)/12) -> 150 | G24: =Supuestos!$C$88*(1+Supuestos!$C$113)^INT((G$9-1)/12) -> 150 | H24: =Supuestos!$C$88*(1+Supuestos!$C$113)^INT((H$9-1)/12) -> 150 | I24: =Supuestos!$C$88*(1+Supuestos!$C$113)^INT((I$9-1)/12) -> 150 | J24: =Supuestos!$C$88*(1+Supuestos!$C$113)^INT((J$9-1)/12) -> 150 | ... N24: =Supuestos!$C$88*(1+Supuestos!$C$113)^INT((N$9-1)/12) -> 150 | O24: =SUM(C24:N24) -> 1800
B25: Seguros | C25: =Supuestos!$C$89*(1+Supuestos!$C$113)^INT((C$9-1)/12) -> 180 | D25: =Supuestos!$C$89*(1+Supuestos!$C$113)^INT((D$9-1)/12) -> 180 | E25: =Supuestos!$C$89*(1+Supuestos!$C$113)^INT((E$9-1)/12) -> 180 | F25: =Supuestos!$C$89*(1+Supuestos!$C$113)^INT((F$9-1)/12) -> 180 | G25: =Supuestos!$C$89*(1+Supuestos!$C$113)^INT((G$9-1)/12) -> 180 | H25: =Supuestos!$C$89*(1+Supuestos!$C$113)^INT((H$9-1)/12) -> 180 | I25: =Supuestos!$C$89*(1+Supuestos!$C$113)^INT((I$9-1)/12) -> 180 | J25: =Supuestos!$C$89*(1+Supuestos!$C$113)^INT((J$9-1)/12) -> 180 | ... N25: =Supuestos!$C$89*(1+Supuestos!$C$113)^INT((N$9-1)/12) -> 180 | O25: =SUM(C25:N25) -> 2160
B26: Mantenimiento | C26: =Supuestos!$C$90*(1+Supuestos!$C$113)^INT((C$9-1)/12) -> 400 | D26: =Supuestos!$C$90*(1+Supuestos!$C$113)^INT((D$9-1)/12) -> 400 | E26: =Supuestos!$C$90*(1+Supuestos!$C$113)^INT((E$9-1)/12) -> 400 | F26: =Supuestos!$C$90*(1+Supuestos!$C$113)^INT((F$9-1)/12) -> 400 | G26: =Supuestos!$C$90*(1+Supuestos!$C$113)^INT((G$9-1)/12) -> 400 | H26: =Supuestos!$C$90*(1+Supuestos!$C$113)^INT((H$9-1)/12) -> 400 | I26: =Supuestos!$C$90*(1+Supuestos!$C$113)^INT((I$9-1)/12) -> 400 | J26: =Supuestos!$C$90*(1+Supuestos!$C$113)^INT((J$9-1)/12) -> 400 | ... N26: =Supuestos!$C$90*(1+Supuestos!$C$113)^INT((N$9-1)/12) -> 400 | O26: =SUM(C26:N26) -> 4800
B27: Limpieza | C27: =Supuestos!$C$91*(1+Supuestos!$C$113)^INT((C$9-1)/12) -> 1100 | D27: =Supuestos!$C$91*(1+Supuestos!$C$113)^INT((D$9-1)/12) -> 1100 | E27: =Supuestos!$C$91*(1+Supuestos!$C$113)^INT((E$9-1)/12) -> 1100 | F27: =Supuestos!$C$91*(1+Supuestos!$C$113)^INT((F$9-1)/12) -> 1100 | G27: =Supuestos!$C$91*(1+Supuestos!$C$113)^INT((G$9-1)/12) -> 1100 | H27: =Supuestos!$C$91*(1+Supuestos!$C$113)^INT((H$9-1)/12) -> 1100 | I27: =Supuestos!$C$91*(1+Supuestos!$C$113)^INT((I$9-1)/12) -> 1100 | J27: =Supuestos!$C$91*(1+Supuestos!$C$113)^INT((J$9-1)/12) -> 1100 | ... N27: =Supuestos!$C$91*(1+Supuestos!$C$113)^INT((N$9-1)/12) -> 1100 | O27: =SUM(C27:N27) -> 13200
B28: Asesoría | C28: =Supuestos!$C$92*(1+Supuestos!$C$113)^INT((C$9-1)/12) -> 300 | D28: =Supuestos!$C$92*(1+Supuestos!$C$113)^INT((D$9-1)/12) -> 300 | E28: =Supuestos!$C$92*(1+Supuestos!$C$113)^INT((E$9-1)/12) -> 300 | F28: =Supuestos!$C$92*(1+Supuestos!$C$113)^INT((F$9-1)/12) -> 300 | G28: =Supuestos!$C$92*(1+Supuestos!$C$113)^INT((G$9-1)/12) -> 300 | H28: =Supuestos!$C$92*(1+Supuestos!$C$113)^INT((H$9-1)/12) -> 300 | I28: =Supuestos!$C$92*(1+Supuestos!$C$113)^INT((I$9-1)/12) -> 300 | J28: =Supuestos!$C$92*(1+Supuestos!$C$113)^INT((J$9-1)/12) -> 300 | ... N28: =Supuestos!$C$92*(1+Supuestos!$C$113)^INT((N$9-1)/12) -> 300 | O28: =SUM(C28:N28) -> 3600
B29: Marketing recurrente | C29: =Supuestos!$C$93*(1+Supuestos!$C$113)^INT((C$9-1)/12) -> 800 | D29: =Supuestos!$C$93*(1+Supuestos!$C$113)^INT((D$9-1)/12) -> 800 | E29: =Supuestos!$C$93*(1+Supuestos!$C$113)^INT((E$9-1)/12) -> 800 | F29: =Supuestos!$C$93*(1+Supuestos!$C$113)^INT((F$9-1)/12) -> 800 | G29: =Supuestos!$C$93*(1+Supuestos!$C$113)^INT((G$9-1)/12) -> 800 | H29: =Supuestos!$C$93*(1+Supuestos!$C$113)^INT((H$9-1)/12) -> 800 | I29: =Supuestos!$C$93*(1+Supuestos!$C$113)^INT((I$9-1)/12) -> 800 | J29: =Supuestos!$C$93*(1+Supuestos!$C$113)^INT((J$9-1)/12) -> 800 | ... N29: =Supuestos!$C$93*(1+Supuestos!$C$113)^INT((N$9-1)/12) -> 800 | O29: =SUM(C29:N29) -> 9600
B30: Otros gastos fijos | C30: =Supuestos!$C$94*(1+Supuestos!$C$113)^INT((C$9-1)/12) -> 500 | D30: =Supuestos!$C$94*(1+Supuestos!$C$113)^INT((D$9-1)/12) -> 500 | E30: =Supuestos!$C$94*(1+Supuestos!$C$113)^INT((E$9-1)/12) -> 500 | F30: =Supuestos!$C$94*(1+Supuestos!$C$113)^INT((F$9-1)/12) -> 500 | G30: =Supuestos!$C$94*(1+Supuestos!$C$113)^INT((G$9-1)/12) -> 500 | H30: =Supuestos!$C$94*(1+Supuestos!$C$113)^INT((H$9-1)/12) -> 500 | I30: =Supuestos!$C$94*(1+Supuestos!$C$113)^INT((I$9-1)/12) -> 500 | J30: =Supuestos!$C$94*(1+Supuestos!$C$113)^INT((J$9-1)/12) -> 500 | ... N30: =Supuestos!$C$94*(1+Supuestos!$C$113)^INT((N$9-1)/12) -> 500 | O30: =SUM(C30:N30) -> 6000
B31: Total gastos fijos | C31: =SUM(C21:C30) -> 17330 | D31: =SUM(D21:D30) -> 17330 | E31: =SUM(E21:E30) -> 17330 | F31: =SUM(F21:F30) -> 17330 | G31: =SUM(G21:G30) -> 17330 | H31: =SUM(H21:H30) -> 17330 | I31: =SUM(I21:I30) -> 17330 | J31: =SUM(J21:J30) -> 17330 | ... N31: =SUM(N21:N30) -> 17330 | O31: =SUM(C31:N31) -> 207960
B32: GASTOS VARIABLES
B33: Comisiones de cobro | C33: =C19*Supuestos!$C$98 -> 168.0372 | D33: =D19*Supuestos!$C$98 -> 150.55147 | E33: =E19*Supuestos!$C$98 -> 161.6496 | F33: =F19*Supuestos!$C$98 -> 164.63842 | G33: =G19*Supuestos!$C$98 -> 196.85952 | H33: =H19*Supuestos!$C$98 -> 205.23715 | I33: =I19*Supuestos!$C$98 -> 214.17379 | J33: =J19*Supuestos!$C$98 -> 220.06944 | ... N33: =N19*Supuestos!$C$98 -> 220.81776 | O33: =SUM(C33:N33) -> 2380.0369
B34: Coste de los extras | C34: =C18*Supuestos!$C$99 -> 618.75 | D34: =D18*Supuestos!$C$99 -> 745.25 | E34: =E18*Supuestos!$C$99 -> 825 | F34: =F18*Supuestos!$C$99 -> 860.75 | G34: =G18*Supuestos!$C$99 -> 990 | H34: =H18*Supuestos!$C$99 -> 1061.5 | I34: =I18*Supuestos!$C$99 -> 1116.5 | J34: =J18*Supuestos!$C$99 -> 1155 | ... N34: =N18*Supuestos!$C$99 -> 1182.5 | O34: =SUM(C34:N34) -> 12146.75
B35: Total gastos variables | C35: =SUM(C33:C34) -> 786.7872 | D35: =SUM(D33:D34) -> 895.80147 | E35: =SUM(E33:E34) -> 986.6496 | F35: =SUM(F33:F34) -> 1025.3884 | G35: =SUM(G33:G34) -> 1186.8595 | H35: =SUM(H33:H34) -> 1266.7372 | I35: =SUM(I33:I34) -> 1330.6738 | J35: =SUM(J33:J34) -> 1375.0694 | ... N35: =SUM(N33:N34) -> 1403.3178 | O35: =SUM(C35:N35) -> 14526.787
B36: Resultado operativo (EBITDA) | C36: =C19-C31-C35 -> -4113.6872 | D36: =D19-D31-D35 -> -5679.8455 | E36: =E19-E31-E35 -> -4845.8496 | F36: =F19-F31-F35 -> -4635.5204 | G36: =G19-G31-G35 -> -2111.8995 | H36: =H19-H31-H35 -> -1493.6412 | I36: =I19-I31-I35 -> -812.85779 | J36: =J19-J31-J35 -> -365.94944 | ... N36: =N19-N31-N35 -> -331.83776 | O36: =SUM(C36:N36) -> -24150.375
B37: PRÉSTAMO Y CAJA
B38: Cuota del préstamo | C38: =IF(C$9<=Supuestos!$C$106,C39,MIN(Supuestos!$C$108,Supuestos!$C$103+C39)) -> 750 | D38: =IF(D$9<=Supuestos!$C$106,D39,MIN(Supuestos!$C$108,C41+D39)) -> 750 | E38: =IF(E$9<=Supuestos!$C$106,E39,MIN(Supuestos!$C$108,D41+E39)) -> 750 | F38: =IF(F$9<=Supuestos!$C$106,F39,MIN(Supuestos!$C$108,E41+F39)) -> 750 | G38: =IF(G$9<=Supuestos!$C$106,G39,MIN(Supuestos!$C$108,F41+G39)) -> 750 | H38: =IF(H$9<=Supuestos!$C$106,H39,MIN(Supuestos!$C$108,G41+H39)) -> 750 | I38: =IF(I$9<=Supuestos!$C$106,I39,MIN(Supuestos!$C$108,H41+I39)) -> 2327.1338 | J38: =IF(J$9<=Supuestos!$C$106,J39,MIN(Supuestos!$C$108,I41+J39)) -> 2327.1338 | K38: =IF(K$9<=Supuestos!$C$106,K39,MIN(Supuestos!$C$108,J41+K39)) -> 2327.1338 | ... N38: =IF(N$9<=Supuestos!$C$106,N39,MIN(Supuestos!$C$108,M41+N39)) -> 2327.1338 | O38: =SUM(C38:N38) -> 18462.803
B39: de la que intereses | C39: =Supuestos!$C$103*Supuestos!$C$104/12 -> 750 | D39: =C41*Supuestos!$C$104/12 -> 750 | E39: =D41*Supuestos!$C$104/12 -> 750 | F39: =E41*Supuestos!$C$104/12 -> 750 | G39: =F41*Supuestos!$C$104/12 -> 750 | H39: =G41*Supuestos!$C$104/12 -> 750 | I39: =H41*Supuestos!$C$104/12 -> 750 | J39: =I41*Supuestos!$C$104/12 -> 742.11433 | K39: =J41*Supuestos!$C$104/12 -> 734.18923 | ... N39: =M41*Supuestos!$C$104/12 -> 710.1754 | O39: =SUM(C39:N39) -> 8880.9234
B40: de la que capital | C40: =C38-C39 -> 0 | D40: =D38-D39 -> 0 | E40: =E38-E39 -> 0 | F40: =F38-F39 -> 0 | G40: =G38-G39 -> 0 | H40: =H38-H39 -> 0 | I40: =I38-I39 -> 1577.1338 | J40: =J38-J39 -> 1585.0194 | ... N40: =N38-N39 -> 1616.9584 | O40: =SUM(C40:N40) -> 9581.8792
B41: Préstamo pendiente | C41: =MAX(0,Supuestos!$C$103-C40) -> 150000 | D41: =MAX(0,C41-D40) -> 150000 | E41: =MAX(0,D41-E40) -> 150000 | F41: =MAX(0,E41-F40) -> 150000 | G41: =MAX(0,F41-G40) -> 150000 | H41: =MAX(0,G41-H40) -> 150000 | I41: =MAX(0,H41-I40) -> 148422.87 | J41: =MAX(0,I41-J40) -> 146837.85 | K41: =MAX(0,J41-K40) -> 145244.9 | ... N41: =MAX(0,M41-N40) -> 140418.12 | O41: =N41 -> 140418.12
B42: Flujo de caja del mes | C42: =C36-C38 -> -4863.6872 | D42: =D36-D38 -> -6429.8455 | E42: =E36-E38 -> -5595.8496 | F42: =F36-F38 -> -5385.5204 | G42: =G36-G38 -> -2861.8995 | H42: =H36-H38 -> -2243.6412 | I42: =I36-I38 -> -3139.9916 | J42: =J36-J38 -> -2693.0832 | ... N42: =N36-N38 -> -2658.9715 | O42: =SUM(C42:N42) -> -42613.178
...

Sheet Cuenta de resultados
B1: Cuenta de resultados
B2: Los tres primeros años, uno al lado de otro. Antes de impuestos y sin IVA.
B5: Concepto | C5: Año 1 | D5: % ingr. | E5: Año 2 | F5: % ingr. | G5: Año 3 | H5: % ingr.
B6: Periodo | C6: =CHOOSE(MONTH(DATE(YEAR(Supuestos!$C$8),MONTH(Supuestos!$C$8)+(1)-1,1)),"ene","feb","mar","abr","may","jun","jul","ago","sep","oct","nov","dic")&" "&RIGHT(YEAR(DATE(YEAR(Supuestos!$C$8),MONTH(Supuestos!$C$8)+(1)-1,1)),2)&" – "&CHOOSE(MONTH(DATE(YEAR(Supuestos!$C$8),MONTH(Supuestos!$C$8)+(12)-1,1)),"ene","feb","mar","abr","may","jun","jul","ago","sep","oct","nov","dic")&" "&RIGHT(YEAR(DATE(YEAR(Supuestos!$C$8),MONTH(Supuestos!$C$8)+(12)-1,1)),2) -> sep 27 – ago 28 | E6: =CHOOSE(MONTH(DATE(YEAR(Supuestos!$C$8),MONTH(Supuestos!$C$8)+(13)-1,1)),"ene","feb","mar","abr","may","jun","jul","ago","sep","oct","nov","dic")&" "&RIGHT(YEAR(DATE(YEAR(Supuestos!$C$8),MONTH(Supuestos!$C$8)+(13)-1,1)),2)&" – "&CHOOSE(MONTH(DATE(YEAR(Supuestos!$C$8),MONTH(Supuestos!$C$8)+(24)-1,1)),"ene","feb","mar","abr","may","jun","jul","ago","sep","oct","nov","dic")&" "&RIGHT(YEAR(DATE(YEAR(Supuestos!$C$8),MONTH(Supuestos!$C$8)+(24)-1,1)),2) -> sep 28 – ago 29 | G6: =CHOOSE(MONTH(DATE(YEAR(Supuestos!$C$8),MONTH(Supuestos!$C$8)+(25)-1,1)),"ene","feb","mar","abr","may","jun","jul","ago","sep","oct","nov","dic")&" "&RIGHT(YEAR(DATE(YEAR(Supuestos!$C$8),MONTH(Supuestos!$C$8)+(25)-1,1)),2)&" – "&CHOOSE(MONTH(DATE(YEAR(Supuestos!$C$8),MONTH(Supuestos!$C$8)+(36)-1,1)),"ene","feb","mar","abr","may","jun","jul","ago","sep","oct","nov","dic")&" "&RIGHT(YEAR(DATE(YEAR(Supuestos!$C$8),MONTH(Supuestos!$C$8)+(36)-1,1)),2) -> sep 29 – ago 30
B7: Socios a final de año | C7: ='Previsión 36 meses'!$O$14 -> 430 | E7: ='Previsión 36 meses'!$O$52 -> 574 | G7: ='Previsión 36 meses'!$O$90 -> 626
B8: Socios de media | C8: =AVERAGE('Previsión 36 meses'!$C$14:$N$14) -> 368.08333 | E8: =AVERAGE('Previsión 36 meses'!$C$52:$N$52) -> 563 | G8: =AVERAGE('Previsión 36 meses'!$C$90:$N$90) -> 647.91667
B9: INGRESOS
B10: Cuotas | C10: ='Previsión 36 meses'!$O$16 -> 162262.91 | D10: =IFERROR(C10/C$13,0) -> 0.81811963 | E10: ='Previsión 36 meses'!$O$54 -> 254393.13 | F10: =IFERROR(E10/E$13,0) -> 0.84559792 | G10: ='Previsión 36 meses'!$O$92 -> 300082.03 | H10: =IFERROR(G10/G$13,0) -> 0.85101672
B11: Matrículas | C11: ='Previsión 36 meses'!$O$17 -> 11780 | D11: =IFERROR(C11/C$13,0) -> 0.059394036 | E11: ='Previsión 36 meses'!$O$55 -> 8364 | F11: =IFERROR(E11/E$13,0) -> 0.027801777 | G11: ='Previsión 36 meses'!$O$93 -> 7606.525 | H11: =IFERROR(G11/G$13,0) -> 0.021571701
B12: Entrenamiento personal y tienda | C12: ='Previsión 36 meses'!$O$18 -> 24293.5 | D12: =IFERROR(C12/C$13,0) -> 0.12248633 | E12: ='Previsión 36 meses'!$O$56 -> 38086.95 | F12: =IFERROR(E12/E$13,0) -> 0.1266003 | G12: ='Previsión 36 meses'!$O$94 -> 44927.352 | H12: =IFERROR(G12/G$13,0) -> 0.12741158
B13: Total ingresos | C13: =SUM(C10:C12) -> 198336.41 | D13: =IFERROR(C13/C$13,0) -> 1 | E13: =SUM(E10:E12) -> 300844.08 | F13: =IFERROR(E13/E$13,0) -> 1 | G13: =SUM(G10:G12) -> 352615.91 | H13: =IFERROR(G13/G$13,0) -> 1
B14: GASTOS FIJOS
B15: Personal | C15: ='Previsión 36 meses'!$O$21 -> 105600 | D15: =IFERROR(C15/C$13,0) -> 0.53242871 | E15: ='Previsión 36 meses'!$O$59 -> 108768 | F15: =IFERROR(E15/E$13,0) -> 0.36154277 | G15: ='Previsión 36 meses'!$O$97 -> 112031.04 | H15: =IFERROR(G15/G$13,0) -> 0.31771408
B16: Alquiler | C16: ='Previsión 36 meses'!$O$22 -> 43200 | D16: =IFERROR(C16/C$13,0) -> 0.21781175 | E16: ='Previsión 36 meses'!$O$60 -> 44496 | F16: =IFERROR(E16/E$13,0) -> 0.14790386 | G16: ='Previsión 36 meses'!$O$98 -> 45830.88 | H16: =IFERROR(G16/G$13,0) -> 0.12997394
B17: Suministros | C17: ='Previsión 36 meses'!$O$23 -> 18000 | D17: =IFERROR(C17/C$13,0) -> 0.090754894 | E17: ='Previsión 36 meses'!$O$61 -> 18540 | F17: =IFERROR(E17/E$13,0) -> 0.061626608 | G17: ='Previsión 36 meses'!$O$99 -> 19096.2 | H17: =IFERROR(G17/G$13,0) -> 0.054155809
B18: Software | C18: ='Previsión 36 meses'!$O$24 -> 1800 | D18: =IFERROR(C18/C$13,0) -> 0.0090754894 | E18: ='Previsión 36 meses'!$O$62 -> 1854 | F18: =IFERROR(E18/E$13,0) -> 0.0061626608 | G18: ='Previsión 36 meses'!$O$100 -> 1909.62 | H18: =IFERROR(G18/G$13,0) -> 0.0054155809
B19: Seguros | C19: ='Previsión 36 meses'!$O$25 -> 2160 | D19: =IFERROR(C19/C$13,0) -> 0.010890587 | E19: ='Previsión 36 meses'!$O$63 -> 2224.8 | F19: =IFERROR(E19/E$13,0) -> 0.007395193 | G19: ='Previsión 36 meses'!$O$101 -> 2291.544 | H19: =IFERROR(G19/G$13,0) -> 0.0064986971
B20: Mantenimiento | C20: ='Previsión 36 meses'!$O$26 -> 4800 | D20: =IFERROR(C20/C$13,0) -> 0.024201305 | E20: ='Previsión 36 meses'!$O$64 -> 4944 | F20: =IFERROR(E20/E$13,0) -> 0.016433762 | G20: ='Previsión 36 meses'!$O$102 -> 5092.32 | H20: =IFERROR(G20/G$13,0) -> 0.014441549
B21: Limpieza | C21: ='Previsión 36 meses'!$O$27 -> 13200 | D21: =IFERROR(C21/C$13,0) -> 0.066553589 | E21: ='Previsión 36 meses'!$O$65 -> 13596 | F21: =IFERROR(E21/E$13,0) -> 0.045192846 | G21: ='Previsión 36 meses'!$O$103 -> 14003.88 | H21: =IFERROR(G21/G$13,0) -> 0.03971426
B22: Asesoría | C22: ='Previsión 36 meses'!$O$28 -> 3600 | D22: =IFERROR(C22/C$13,0) -> 0.018150979 | E22: ='Previsión 36 meses'!$O$66 -> 3708 | F22: =IFERROR(E22/E$13,0) -> 0.012325322 | G22: ='Previsión 36 meses'!$O$104 -> 3819.24 | H22: =IFERROR(G22/G$13,0) -> 0.010831162
B23: Marketing recurrente | C23: ='Previsión 36 meses'!$O$29 -> 9600 | D23: =IFERROR(C23/C$13,0) -> 0.04840261 | E23: ='Previsión 36 meses'!$O$67 -> 9888 | F23: =IFERROR(E23/E$13,0) -> 0.032867524 | G23: ='Previsión 36 meses'!$O$105 -> 10184.64 | H23: =IFERROR(G23/G$13,0) -> 0.028883098
B24: Otros gastos fijos | C24: ='Previsión 36 meses'!$O$30 -> 6000 | D24: =IFERROR(C24/C$13,0) -> 0.030251631 | E24: ='Previsión 36 meses'!$O$68 -> 6180 | F24: =IFERROR(E24/E$13,0) -> 0.020542203 | G24: ='Previsión 36 meses'!$O$106 -> 6365.4 | H24: =IFERROR(G24/G$13,0) -> 0.018051936
B25: Total gastos fijos | C25: =SUM(C15:C24) -> 207960 | D25: =IFERROR(C25/C$13,0) -> 1.0485215 | E25: =SUM(E15:E24) -> 214198.8 | F25: =IFERROR(E25/E$13,0) -> 0.71199275 | G25: =SUM(G15:G24) -> 220624.76 | H25: =IFERROR(G25/G$13,0) -> 0.62568012
B26: GASTOS VARIABLES
B27: Comisiones de cobro | C27: ='Previsión 36 meses'!$O$33 -> 2380.0369 | D27: =IFERROR(C27/C$13,0) -> 0.012 | E27: ='Previsión 36 meses'!$O$71 -> 3610.1289 | F27: =IFERROR(E27/E$13,0) -> 0.012 | G27: ='Previsión 36 meses'!$O$109 -> 4231.3909 | H27: =IFERROR(G27/G$13,0) -> 0.012
B28: Coste de los extras | C28: ='Previsión 36 meses'!$O$34 -> 12146.75 | D28: =IFERROR(C28/C$13,0) -> 0.061243167 | E28: ='Previsión 36 meses'!$O$72 -> 19043.475 | F28: =IFERROR(E28/E$13,0) -> 0.063300149 | G28: ='Previsión 36 meses'!$O$110 -> 22463.676 | H28: =IFERROR(G28/G$13,0) -> 0.063705792
B29: Total gastos variables | C29: =SUM(C27:C28) -> 14526.787 | D29: =IFERROR(C29/C$13,0) -> 0.073243167 | E29: =SUM(E27:E28) -> 22653.604 | F29: =IFERROR(E29/E$13,0) -> 0.075300149 | G29: =SUM(G27:G28) -> 26695.067 | H29: =IFERROR(G29/G$13,0) -> 0.075705792
B30: Resultado operativo (EBITDA) | C30: =C13-C25-C29 -> -24150.375 | D30: =IFERROR(C30/C$13,0) -> -0.12176471 | E30: =E13-E25-E29 -> 63991.672 | F30: =IFERROR(E30/E$13,0) -> 0.2127071 | G30: =G13-G25-G29 -> 105296.08 | H30: =IFERROR(G30/G$13,0) -> 0.29861409
B31: Margen operativo (EBITDA ÷ ingresos) | C31: =IFERROR(C30/C13,0) -> -0.12176471 | E31: =IFERROR(E30/E13,0) -> 0.2127071 | G31: =IFERROR(G30/G13,0) -> 0.29861409
B33: − Gastos de apertura (marketing de lanzamiento) | C33: =Supuestos!$C$31 -> 6000 | D33: =IFERROR(C33/C$13,0) -> 0.030251631 | E33: =0 -> 0 | F33: =IFERROR(E33/E$13,0) -> 0 | G33: =0 -> 0 | H33: =IFERROR(G33/G$13,0) -> 0
B34: − Amortización de la inversión | C34: =IF(Supuestos!$C$35>=1,IFERROR((Supuestos!$C$33-Supuestos!$C$25-Supuestos!$C$31)/Supuestos!$C$35,0),0) -> 16300 | D34: =IFERROR(C34/C$13,0) -> 0.082183598 | E34: =IF(Supuestos!$C$35>=2,IFERROR((Supuestos!$C$33-Supuestos!$C$25-Supuestos!$C$31)/Supuestos!$C$35,0),0) -> 16300 | F34: =IFERROR(E34/E$13,0) -> 0.054180891 | G34: =IF(Supuestos!$C$35>=3,IFERROR((Supuestos!$C$33-Supuestos!$C$25-Supuestos!$C$31)/Supuestos!$C$35,0),0) -> 16300 | H34: =IFERROR(G34/G$13,0) -> 0.046225935
B35: − Intereses del préstamo | C35: ='Previsión 36 meses'!$O$39 -> 8880.9234 | D35: =IFERROR(C35/C$13,0) -> 0.04477707 | E35: ='Previsión 36 meses'!$O$77 -> 7879.7839 | F35: =IFERROR(E35/E$13,0) -> 0.026192252 | G35: ='Previsión 36 meses'!$O$115 -> 6643.4015 | H35: =IFERROR(G35/G$13,0) -> 0.018840334
B36: Resultado antes de impuestos | C36: =C30-C33-C34-C35 -> -55331.298 | D36: =IFERROR(C36/C$13,0) -> -0.27897701 | E36: =E30-E33-E34-E35 -> 39811.889 | F36: =IFERROR(E36/E$13,0) -> 0.13233396 | G36: =G30-G33-G34-G35 -> 82352.678 | H36: =IFERROR(G36/G$13,0) -> 0.23354782
B37: Antes de impuestos. Lo que pagues depende de cómo te constituyas (sociedad limitada o autónomo) y de tu situación: pide el tipo a tu asesoría y réstalo de esta línea.
B40: De la cuenta a la caja
B41: Resultado antes de impuestos | C41: =C36 -> -55331.298 | E41: =E36 -> 39811.889 | G41: =G36 -> 82352.678
B42: + Amortización (no sale de la caja) | C42: =C34 -> 16300 | E42: =E34 -> 16300 | G42: =G34 -> 16300
B43: + Gastos de apertura (pagados con la inversión) | C43: =C33 -> 6000 | E43: =E33 -> 0 | G43: =G33 -> 0
B44: − Devolución del préstamo (capital) | C44: =-'Previsión 36 meses'!$O$40 -> -9581.8792 | E44: =-'Previsión 36 meses'!$O$78 -> -20045.821 | G44: =-'Previsión 36 meses'!$O$116 -> -21282.204
B45: Flujo de caja del año | C45: =SUM(C41:C44) -> -42613.178 | E45: =SUM(E41:E44) -> 36066.067 | G45: =SUM(G41:G44) -> 77370.475
...

Sheet Punto de equilibrio
B1: Punto de equilibrio
B2: Cuántos socios necesitas, cuándo llegas, cuánto baja la caja y qué pasa si la cuota o las altas se mueven.
B5: 1 ¿Cuántos socios necesitas para cubrir gastos?
B6: Por socio y mes (sin IVA) | C6: Año 1 | D6: Año 2 | E6: Año 3
B7: Cuota media (con el escenario) | C7: =Supuestos!$C$45*Supuestos!$F$14*(1+Supuestos!$C$112)^0 -> 36.736 | D7: =Supuestos!$C$45*Supuestos!$F$14*(1+Supuestos!$C$112)^1 -> 37.6544 | E7: =Supuestos!$C$45*Supuestos!$F$14*(1+Supuestos!$C$112)^2 -> 38.59576 | F7: Cómo se calcula Socios necesarios = gastos fijos al mes ÷ margen por socio. No cuenta las matrículas (son puntuales). Por eso el mes en que cubres gastos puede llegar un poco antes de tener estos socios.
B8: + Entrenamiento personal y tienda | C8: =(Supuestos!$C$48+Supuestos!$C$49)*(1+Supuestos!$C$112)^0 -> 5.5 | D8: =(Supuestos!$C$48+Supuestos!$C$49)*(1+Supuestos!$C$112)^1 -> 5.6375 | E8: =(Supuestos!$C$48+Supuestos!$C$49)*(1+Supuestos!$C$112)^2 -> 5.7784375
B9: Ingreso medio por socio | C9: =C7+C8 -> 42.236 | D9: =D7+D8 -> 43.2919 | E9: =E7+E8 -> 44.374197
B10: − Comisiones de cobro | C10: =C9*Supuestos!$C$98 -> 0.506832 | D10: =D9*Supuestos!$C$98 -> 0.5195028 | E10: =E9*Supuestos!$C$98 -> 0.53249037
B11: − Coste de los extras | C11: =C8*Supuestos!$C$99 -> 2.75 | D11: =D8*Supuestos!$C$99 -> 2.81875 | E11: =E8*Supuestos!$C$99 -> 2.8892187
B12: Margen por socio y mes | C12: =C9-C10-C11 -> 38.979168 | D12: =D9-D10-D11 -> 39.953647 | E12: =E9-E10-E11 -> 40.952488
B13: Gastos fijos al mes | C13: =Supuestos!$C$95*(1+Supuestos!$C$113)^0 -> 17330 | D13: =Supuestos!$C$95*(1+Supuestos!$C$113)^1 -> 17849.9 | E13: =Supuestos!$C$95*(1+Supuestos!$C$113)^2 -> 18385.397
B14: Socios para cubrir gastos fijos | C14: =IFERROR(ROUNDUP(C13/C12,0),0) -> 445 | D14: =IFERROR(ROUNDUP(D13/D12,0),0) -> 447 | E14: =IFERROR(ROUNDUP(E13/E12,0),0) -> 449
B15: Cuota media del préstamo al mes | C15: ='Previsión 36 meses'!$O$38/12 -> 1538.5669 | D15: ='Previsión 36 meses'!$O$76/12 -> 2327.1338 | E15: ='Previsión 36 meses'!$O$114/12 -> 2327.1338
B16: Socios para cubrir gastos y préstamo | C16: =IFERROR(ROUNDUP((C13+C15)/C12,0),0) -> 485 | D16: =IFERROR(ROUNDUP((D13+D15)/D12,0),0) -> 506 | E16: =IFERROR(ROUNDUP((E13+E15)/E12,0),0) -> 506
B17: Socios que tendrás a final de año | C17: ='Previsión 36 meses'!$O$14 -> 430 | D17: ='Previsión 36 meses'!$O$52 -> 574 | E17: ='Previsión 36 meses'!$O$90 -> 626
B19: 2 ¿Cuándo llegas y cuánto dinero necesitas?
B20: Mes en que cubres gastos | C20: =IFERROR(MATCH(1,$BW$56:$BW$91,0),"") -> 9 | D20: =IF(ISNUMBER(C20),"Primer mes con resultado operativo (EBITDA) ≥ 0: "&CHOOSE(MONTH(DATE(YEAR(Supuestos!$C$8),MONTH(Supuestos!$C$8)+(C20)-1,1)),"enero","febrero","marzo","abril","mayo","junio","julio","agosto","septiembre","octubre","noviembre","diciembre")&" de "&YEAR(DATE(YEAR(Supuestos!$C$8),MONTH(Supuestos!$C$8)+(C20)-1,1))&".","No llegas a cubrir gastos en los 36 meses.") -> Primer mes con resultado operativo (EBITDA) ≥ 0: mayo de 2028.
B21: Caja mínima (el peor momento) | C21: =MIN($I$55:$I$91) -> 11186.822
B22: Mes de la caja mínima | C22: =MATCH(C21,$I$55:$I$91,0)-1 -> 12 | D22: =IF(C22=0,"El día que abres.",CHOOSE(MONTH(DATE(YEAR(Supuestos!$C$8),MONTH(Supuestos!$C$8)+(C22)-1,1)),"enero","febrero","marzo","abril","mayo","junio","julio","agosto","septiembre","octubre","noviembre","diciembre")&" de "&YEAR(DATE(YEAR(Supuestos!$C$8),MONTH(Supuestos!$C$8)+(C22)-1,1))&".") -> agosto de 2028.
B23: Inversión inicial | C23: =Supuestos!$C$33 -> 176200 | D23: Del bloque 3 de «Supuestos».
B24: Financiación mínima | C24: =Supuestos!$C$102+Supuestos!$C$103-C21 -> 218813.18 | D24: Lo justo para que la caja no baje de 0 € en ningún mes.
B25: Colchón de seguridad | C25: =Supuestos!$C$34 -> 15000 | D25: El que pusiste en «Supuestos».
B26: Financiación necesaria (con colchón) | C26: =C24+C25 -> 233813.18 | D26: La cifra que te conviene tener cerrada antes de firmar.
B27: Tu financiación (aportación + préstamo) | C27: =Supuestos!$C$102+Supuestos!$C$103 -> 230000
B28: Te sobra (+) o te falta (−) | C28: =C27-C26 -> -3813.1776 | D28: =IF(C28>=0,"Tu financiación cubre el peor mes y el colchón.","Te falta para cubrir el peor mes con tu colchón: más financiación o menos inversión.") -> Te falta para cubrir el peor mes con tu colchón: más financiación o menos inversión.
B29: Meses para recuperar la inversión | C29: =IFERROR(MATCH(1,$V$56:$V$91,0),IF('Previsión 36 meses'!$N$112>0,IF(36+ROUNDUP((C23-$J$91)/'Previsión 36 meses'!$N$112,0)<=120,36+ROUNDUP((C23-$J$91)/'Previsión 36 meses'!$N$112,0),""),"")) -> 41 | D29: =IF(C29="",IF('Previsión 36 meses'!$N$112>0,"Más de 10 años al ritmo del mes 36: revisa el plan.","Con estos supuestos no la recuperas."),IF(ISNUMBER(MATCH(1,$V$56:$V$91,0)),"El resultado operativo acumulado iguala la inversión en "&CHOOSE(MONTH(DATE(YEAR(Supuestos!$C$8),MONTH(Supuestos!$C$8)+(C29)-1,1)),"enero","febrero","marzo","abril","mayo","junio","julio","agosto","septiembre","octubre","noviembre","diciembre")&" de "&YEAR(DATE(YEAR(Supuestos!$C$8),MONTH(Supuestos!$C$8)+(C29)-1,1))&".","Estimado: más allá de los 36 meses, al ritmo del mes 36.")) -> Estimado: más allá de los 36 meses, al ritmo del mes 36.
B31: 3 ¿Y si la cuota o las altas se mueven? (sensibilidad)
B32: Cada casilla vuelve a calcular los 36 meses del escenario elegido moviendo la cuota media (columnas) y las altas de cada mes (filas). La casilla central es tu plan.
B34: Mes en que cubres gastos
B35: Altas ↓ Cuota media → | C35: -0.1 | D35: -0.05 | E35: 0 | F35: 0.05 | G35: 0.1
B36: -0.2 | C36: =IFERROR(MATCH(1,$AA$56:$AA$91,0),"> 36") -> 21 | D36: =IFERROR(MATCH(1,$AE$56:$AE$91,0),"> 36") -> 17 | E36: =IFERROR(MATCH(1,$AI$56:$AI$91,0),"> 36") -> 17 | F36: =IFERROR(MATCH(1,$AM$56:$AM$91,0),"> 36") -> 14 | G36: =IFERROR(MATCH(1,$AQ$56:$AQ$91,0),"> 36") -> 13 | H36: Número de mes en que el resultado operativo llega a 0 o más por primera vez. Verde: antes. Coral: más tarde o nunca en 36 meses.
B37: -0.1 | C37: =IFERROR(MATCH(1,$AU$56:$AU$91,0),"> 36") -> 15 | D37: =IFERROR(MATCH(1,$AY$56:$AY$91,0),"> 36") -> 14 | E37: =IFERROR(MATCH(1,$BC$56:$BC$91,0),"> 36") -> 13 | F37: =IFERROR(MATCH(1,$BG$56:$BG$91,0),"> 36") -> 13 | G37: =IFERROR(MATCH(1,$BK$56:$BK$91,0),"> 36") -> 13
B38: 0 | C38: =IFERROR(MATCH(1,$BO$56:$BO$91,0),"> 36") -> 13 | D38: =IFERROR(MATCH(1,$BS$56:$BS$91,0),"> 36") -> 13 | E38: =IFERROR(MATCH(1,$BW$56:$BW$91,0),"> 36") -> 9 | F38: =IFERROR(MATCH(1,$CA$56:$CA$91,0),"> 36") -> 8 | G38: =IFERROR(MATCH(1,$CE$56:$CE$91,0),"> 36") -> 7
B39: 0.1 | C39: =IFERROR(MATCH(1,$CI$56:$CI$91,0),"> 36") -> 9 | D39: =IFERROR(MATCH(1,$CM$56:$CM$91,0),"> 36") -> 7 | E39: =IFERROR(MATCH(1,$CQ$56:$CQ$91,0),"> 36") -> 6 | F39: =IFERROR(MATCH(1,$CU$56:$CU$91,0),"> 36") -> 5 | G39: =IFERROR(MATCH(1,$CY$56:$CY$91,0),"> 36") -> 5
B40: 0.2 | C40: =IFERROR(MATCH(1,$DC$56:$DC$91,0),"> 36") -> 6 | D40: =IFERROR(MATCH(1,$DG$56:$DG$91,0),"> 36") -> 5 | E40: =IFERROR(MATCH(1,$DK$56:$DK$91,0),"> 36") -> 5 | F40: =IFERROR(MATCH(1,$DO$56:$DO$91,0),"> 36") -> 5 | G40: =IFERROR(MATCH(1,$DS$56:$DS$91,0),"> 36") -> 5
B43: Resultado del año 1 antes de impuestos
B44: Altas ↓ Cuota media → | C44: =C35 -> -0.1 | D44: =D35 -> -0.05 | E44: =E35 -> 0 | F44: =F35 -> 0.05 | G44: =G35 -> 0.1
B45: =B36 -> -0.2 | C45: =SUM(Z56:Z67)-('Cuenta de resultados'!$C$33+'Cuenta de resultados'!$C$34+'Cuenta de resultados'!$C$35) -> -105029.93 | D45: =SUM(AD56:AD67)-('Cuenta de resultados'!$C$33+'Cuenta de resultados'!$C$34+'Cuenta de resultados'!$C$35) -> -98623.838 | E45: =SUM(AH56:AH67)-('Cuenta de resultados'!$C$33+'Cuenta de resultados'!$C$34+'Cuenta de resultados'!$C$35) -> -92217.74 | F45: =SUM(AL56:AL67)-('Cuenta de resultados'!$C$33+'Cuenta de resultados'!$C$34+'Cuenta de resultados'!$C$35) -> -85811.643 | G45: =SUM(AP56:AP67)-('Cuenta de resultados'!$C$33+'Cuenta de resultados'!$C$34+'Cuenta de resultados'!$C$35) -> -79405.546 | H45: Resultado del primer año después de amortización e intereses. La casilla central coincide con la «Cuenta de resultados».
B46: =B37 -> -0.1 | C46: =SUM(AT56:AT67)-('Cuenta de resultados'!$C$33+'Cuenta de resultados'!$C$34+'Cuenta de resultados'!$C$35) -> -87563.735 | D46: =SUM(AX56:AX67)-('Cuenta de resultados'!$C$33+'Cuenta de resultados'!$C$34+'Cuenta de resultados'!$C$35) -> -80322.849 | E46: =SUM(BB56:BB67)-('Cuenta de resultados'!$C$33+'Cuenta de resultados'!$C$34+'Cuenta de resultados'!$C$35) -> -73081.963 | F46: =SUM(BF56:BF67)-('Cuenta de resultados'!$C$33+'Cuenta de resultados'!$C$34+'Cuenta de resultados'!$C$35) -> -65841.077 | G46: =SUM(BJ56:BJ67)-('Cuenta de resultados'!$C$33+'Cuenta de resultados'!$C$34+'Cuenta de resultados'!$C$35) -> -58600.191
B47: =B38 -> 0 | C47: =SUM(BN56:BN67)-('Cuenta de resultados'!$C$33+'Cuenta de resultados'!$C$34+'Cuenta de resultados'!$C$35) -> -71362.874 | D47: =SUM(BR56:BR67)-('Cuenta de resultados'!$C$33+'Cuenta de resultados'!$C$34+'Cuenta de resultados'!$C$35) -> -63347.086 | E47: =SUM(BV56:BV67)-('Cuenta de resultados'!$C$33+'Cuenta de resultados'!$C$34+'Cuenta de resultados'!$C$35) -> -55331.298 | F47: =SUM(BZ56:BZ67)-('Cuenta de resultados'!$C$33+'Cuenta de resultados'!$C$34+'Cuenta de resultados'!$C$35) -> -47315.511 | G47: =SUM(CD56:CD67)-('Cuenta de resultados'!$C$33+'Cuenta de resultados'!$C$34+'Cuenta de resultados'!$C$35) -> -39299.723
...

Sheet Cuando la hoja se queda corta
B2: Cuando la hoja se queda corta
B5: Este Excel sirve para decidir si abrir y para hablar con el banco. Cuando abras, el día a día pide otra cosa: saber quién ha pagado y quién no, quién reserva cada clase, quién entra por la puerta y cómo avisar a tus socios.
B7: GymGym reúne socios, cobros, reservas, accesos y comunicación en un mismo sitio, para que el tiempo se vaya en tu centro y no en las hojas de cálculo.
B9: Conócelo en gymgym.es
B10: Más recursos gratis en gymgym.es/recursos
